BEGIN:VCALENDAR
VERSION:2.0
PRODID:-//ticketbasis.de - ECPv6.15.20//NONSGML v1.0//EN
CALSCALE:GREGORIAN
METHOD:PUBLISH
X-WR-CALNAME:ticketbasis.de
X-ORIGINAL-URL:https://ticketbasis.de
X-WR-CALDESC:Veranstaltungen für ticketbasis.de
REFRESH-INTERVAL;VALUE=DURATION:PT1H
X-Robots-Tag:noindex
X-PUBLISHED-TTL:PT1H
BEGIN:VTIMEZONE
TZID:Europe/Berlin
BEGIN:DAYLIGHT
TZOFFSETFROM:+0100
TZOFFSETTO:+0200
TZNAME:CEST
DTSTART:20250330T010000
END:DAYLIGHT
BEGIN:STANDARD
TZOFFSETFROM:+0200
TZOFFSETTO:+0100
TZNAME:CET
DTSTART:20251026T010000
END:STANDARD
BEGIN:DAYLIGHT
TZOFFSETFROM:+0100
TZOFFSETTO:+0200
TZNAME:CEST
DTSTART:20260329T010000
END:DAYLIGHT
BEGIN:STANDARD
TZOFFSETFROM:+0200
TZOFFSETTO:+0100
TZNAME:CET
DTSTART:20261025T010000
END:STANDARD
BEGIN:DAYLIGHT
TZOFFSETFROM:+0100
TZOFFSETTO:+0200
TZNAME:CEST
DTSTART:20270328T010000
END:DAYLIGHT
BEGIN:STANDARD
TZOFFSETFROM:+0200
TZOFFSETTO:+0100
TZNAME:CET
DTSTART:20271031T010000
END:STANDARD
END:VTIMEZONE
BEGIN:VEVENT
DTSTART;TZID=Europe/Berlin:20260424T180000
DTEND;TZID=Europe/Berlin:20260424T210000
DTSTAMP:20260425T172950
CREATED:20260312T111801Z
LAST-MODIFIED:20260312T123353Z
UID:2080-1777053600-1777064400@ticketbasis.de
SUMMARY:Klimaschutzmaßnahmen - ein Perspektivwechsel
DESCRIPTION:Klimaschutz\, der Wahnsinn zwischen Klima\, Ideologie und Geld\n\n\n\n\n\nWarum wir genauer hinschauen müssen – und anders handeln sollten!Die öffentliche Klimadebatte folgt oft festen Erzählungen. Wir hören Schlagworte\, sehen Kampagnen\, erleben moralischen Druck. Doch was passiert\, wenn wir Ursachen und Wirkungen sauber trennen und den Blick wieder auf die realen Prozesse in der Natur richten? Die wahren Ursachen vieler ökologischer Schäden. Viele der heutigen Umweltprobleme entstehen nicht durch das Klima selbst\, sondern durch massive Eingriffe in Landschaft und Böden. \n\n\n\nBesonders relevant sind \n\n\n\n\nAustrocknung von Landschaften – durch tausendfache Entwässerungsgräben für schwere Maschinen\n\n\n\nPflugsohlenverdichtung – die Wasseraufnahme verhindert und Böden biologisch erstickt\n\n\n\nBodenerosion – als direkte Folge falscher Bewirtschaftung\n\n\n\n\nWir sehen hier ein systemisches Problem: Technische Effizienz wurde über ökologische Stabilität gestellt.Wenn Landschaften krank sind\, wird auch das Wetter extremer Geschädigte Böden und entwässerte Flächen verändern das lokale Klima. Die Folgen sind messbar: \n\n\n\n\nStärkere Temperaturgegensätze\n\n\n\nBeschleunigte Luftbewegungen\n\n\n\nHochenergetische Wetterereignisse wie Fallböen\n\n\n\n\n\n\n\n\n\n\n\n\nDie enorme Schadwirkung solcher Ereignisse zeigt sich deutlich in Bildern verwüsteter Wälder\, zerstörter Infrastruktur und großflächiger Vegetationsverluste. \n\n\n\nNicht das Klima agiert isoliert. Die Landschaft reagiert auf unseren Umgang mit ihr.
URL:https://ticketbasis.de/event/klimaschutzmassnahmen-ein-perspektivwechsel/
LOCATION:Sportlerheim Ammendorf\, Kurt-Wüsteneck-Str. 23\, Halle (Saale)\, 06132
CATEGORIES:Themenabend,Vortrag
ATTACH;FMTTYPE=image/jpeg:https://ticketbasis.de/wp-content/uploads/2026/03/f39f264d-2481-4f79-84da-f3074177ca10.jpg
END:VEVENT
END:VCALENDAR