BEGIN:VCALENDAR
VERSION:2.0
PRODID:-//ticketbasis.de - ECPv6.15.20//NONSGML v1.0//EN
CALSCALE:GREGORIAN
METHOD:PUBLISH
X-WR-CALNAME:ticketbasis.de
X-ORIGINAL-URL:https://ticketbasis.de
X-WR-CALDESC:Veranstaltungen für ticketbasis.de
REFRESH-INTERVAL;VALUE=DURATION:PT1H
X-Robots-Tag:noindex
X-PUBLISHED-TTL:PT1H
BEGIN:VTIMEZONE
TZID:Europe/Berlin
BEGIN:DAYLIGHT
TZOFFSETFROM:+0100
TZOFFSETTO:+0200
TZNAME:CEST
DTSTART:20250330T010000
END:DAYLIGHT
BEGIN:STANDARD
TZOFFSETFROM:+0200
TZOFFSETTO:+0100
TZNAME:CET
DTSTART:20251026T010000
END:STANDARD
BEGIN:DAYLIGHT
TZOFFSETFROM:+0100
TZOFFSETTO:+0200
TZNAME:CEST
DTSTART:20260329T010000
END:DAYLIGHT
BEGIN:STANDARD
TZOFFSETFROM:+0200
TZOFFSETTO:+0100
TZNAME:CET
DTSTART:20261025T010000
END:STANDARD
BEGIN:DAYLIGHT
TZOFFSETFROM:+0100
TZOFFSETTO:+0200
TZNAME:CEST
DTSTART:20270328T010000
END:DAYLIGHT
BEGIN:STANDARD
TZOFFSETFROM:+0200
TZOFFSETTO:+0100
TZNAME:CET
DTSTART:20271031T010000
END:STANDARD
END:VTIMEZONE
BEGIN:VEVENT
DTSTART;TZID=Europe/Berlin:20260428T183000
DTEND;TZID=Europe/Berlin:20260428T223000
DTSTAMP:20260425T175220
CREATED:20260417T055436Z
LAST-MODIFIED:20260417T055439Z
UID:2772-1777401000-1777415400@ticketbasis.de
SUMMARY:VIP-Sprechstunde und Mainstream-Märchen - 2. Folgetermin
DESCRIPTION:3. Termin da die Nachfrage sehr groß ist!Kayvan Soufi-Siavash\n\n\n\nSei noch näher dran und hol dir dein „VIP-Sprechstunde“ Ticket!Sprechstunde! 2026 ist das Jahr der großen Umwälzungen. Das Jahr des Feuerpferds. Dein Jahr! \n\n\n\n\nWas musst Du dringend aussprechen?\n\n\n\nWas muss raus?\n\n\n\nWas duldet keinen Aufschub?\n\n\n\n\nErzähle uns Deine Geschichte! Kayvan hört Dir zu. Vor Publikum. Auf einer gemeinsamen Bühne.Die Fragen ergeben sich von selbst. Traust Du Dich?Was 2025 als Live-Konzept etabliert wurde\, geht in die nächste Runde:Ein Abend\, bei dem das Publikum im Mittelpunkt steht.Und das in besonders „kleiner Runde“!Noch persönlicher\, noch familiärer und damit noch exklusiver! \n\n\n\n\n\n\n\n\n\n\n\n\n\n\n\n\n\nEintritt: 35 € – Bezahlung nur in BAR und vor ORT!Einlass: ab 17 UhrBeginn: 18:30 Uhr \n\n\n\n\n\nVeranstalter:\n\n\n\nSven Kerzel dieBasis Kreisverband Heilbronn-Ludwigsburgsven.kerzel@diebasis-hn.de \n\n\n\n\n\nVeranstaltungsort:Im Raum Heilbronn – PLZ 743XX\n\n\n\nDer genaue Veranstaltungsort wird allen Teilnehmern 2 Tage vorher mitgeteilt!
URL:https://ticketbasis.de/event/vip-sprechstunde-und-mainstream-marchen-folgetermin-2/
CATEGORIES:Vortrag
ATTACH;FMTTYPE=image/jpeg:https://ticketbasis.de/wp-content/uploads/2026/04/Kayvan-Veranstaltung3.jpg
END:VEVENT
END:VCALENDAR