BEGIN:VCALENDAR
VERSION:2.0
PRODID:-//ticketbasis.de - ECPv6.15.20//NONSGML v1.0//EN
CALSCALE:GREGORIAN
METHOD:PUBLISH
X-ORIGINAL-URL:https://ticketbasis.de
X-WR-CALDESC:Veranstaltungen für ticketbasis.de
REFRESH-INTERVAL;VALUE=DURATION:PT1H
X-Robots-Tag:noindex
X-PUBLISHED-TTL:PT1H
BEGIN:VTIMEZONE
TZID:Europe/Berlin
BEGIN:DAYLIGHT
TZOFFSETFROM:+0100
TZOFFSETTO:+0200
TZNAME:CEST
DTSTART:20250330T010000
END:DAYLIGHT
BEGIN:STANDARD
TZOFFSETFROM:+0200
TZOFFSETTO:+0100
TZNAME:CET
DTSTART:20251026T010000
END:STANDARD
BEGIN:DAYLIGHT
TZOFFSETFROM:+0100
TZOFFSETTO:+0200
TZNAME:CEST
DTSTART:20260329T010000
END:DAYLIGHT
BEGIN:STANDARD
TZOFFSETFROM:+0200
TZOFFSETTO:+0100
TZNAME:CET
DTSTART:20261025T010000
END:STANDARD
BEGIN:DAYLIGHT
TZOFFSETFROM:+0100
TZOFFSETTO:+0200
TZNAME:CEST
DTSTART:20270328T010000
END:DAYLIGHT
BEGIN:STANDARD
TZOFFSETFROM:+0200
TZOFFSETTO:+0100
TZNAME:CET
DTSTART:20271031T010000
END:STANDARD
END:VTIMEZONE
BEGIN:VEVENT
DTSTART;TZID=Europe/Berlin:20260911T183000
DTEND;TZID=Europe/Berlin:20260911T213000
DTSTAMP:20260425T220509
CREATED:20260212T102654Z
LAST-MODIFIED:20260424T084457Z
UID:1635-1789151400-1789162200@ticketbasis.de
SUMMARY:Kontext & Konturen 2026 mit Tom-Oliver Regenauer
DESCRIPTION:Die Welt\, wie wir sie kannten\, löst sich auf. \n\n\n\nPolitik\, Wirtschaft\, Gesellschaft\, Wohlstand\, Frieden\,Medien\, Technologie\, Kommunikation\, Kulturbetrieb – nichts entgeht den Zäsuren der „viertenindustriellen Revolution“. Am wenigsten der Mensch. Denn das von Paradigmenwechselnkorrumpierte Individuum verliert durch die lebensfeindliche Programmatik eines raumgreifendenTranshumanismus nicht nur Orientierung\, Eigentum und Freiheit\, sondern vor allem den Verstand.Was in Douglas Couplands Roman „Generation X“ (1991) als „Optionsparalyse“ einer Alterskohortebegann\, hat sich zu einer weithin parasozialen Gesellschaft ausgewachsen. Zu einer Pathokratie\, inder Menschen mit Gegenwart überfordert werden\, um die Zukunft zu vergessen. Kontrolliert\,manipuliert und tyrannisiert von einem supranationalen Überwachungsapparat\, der seine totalitärenZüge immer ungenierter offenlegt. \n\n\n\nNur wer die Methodik und Ziele dieses System versteht\, ist in der Lage\, ihnen entgegenzuwirken. Vordiesem Hintergrund liefert Tom-Oliver Regenauer auch mit seinem neuen Vortrag eine hochaktuelleStandortbestimmung\, gründlich recherchierte Informationen und ideologiefreie Analysen\, die nebendem Status quo auch konkrete Handlungsalternativen für das souveräne Individuum beschreiben.Investigativer Journalismus – für Kontext und Konturen.Live. \n\n\n\n\n\n\n\nDie Tickets sind eine verbindliche Anmeldung\, der Eintrittspreis wird aber erst am Abend der Veranstaltung gezahlt. Bitte denk trotzdem daran dein Ticket ausgedruckt oder per QR-Code auf dem Handy mitzubringen.
URL:https://ticketbasis.de/event/kontext-konturen-2026-mit-tom-oliver-regenauer/
CATEGORIES:Themenabend
ATTACH;FMTTYPE=image/jpeg:https://ticketbasis.de/wp-content/uploads/2025/12/Regenauer-6c6fee15e2a0ea40dcd331ef195203bd.jpg
END:VEVENT
END:VCALENDAR