BEGIN:VCALENDAR
VERSION:2.0
PRODID:-//ticketbasis.de - ECPv6.15.20//NONSGML v1.0//EN
CALSCALE:GREGORIAN
METHOD:PUBLISH
X-ORIGINAL-URL:https://ticketbasis.de
X-WR-CALDESC:Veranstaltungen für ticketbasis.de
REFRESH-INTERVAL;VALUE=DURATION:PT1H
X-Robots-Tag:noindex
X-PUBLISHED-TTL:PT1H
BEGIN:VTIMEZONE
TZID:Europe/Berlin
BEGIN:DAYLIGHT
TZOFFSETFROM:+0100
TZOFFSETTO:+0200
TZNAME:CEST
DTSTART:20250330T010000
END:DAYLIGHT
BEGIN:STANDARD
TZOFFSETFROM:+0200
TZOFFSETTO:+0100
TZNAME:CET
DTSTART:20251026T010000
END:STANDARD
BEGIN:DAYLIGHT
TZOFFSETFROM:+0100
TZOFFSETTO:+0200
TZNAME:CEST
DTSTART:20260329T010000
END:DAYLIGHT
BEGIN:STANDARD
TZOFFSETFROM:+0200
TZOFFSETTO:+0100
TZNAME:CET
DTSTART:20261025T010000
END:STANDARD
BEGIN:DAYLIGHT
TZOFFSETFROM:+0100
TZOFFSETTO:+0200
TZNAME:CEST
DTSTART:20270328T010000
END:DAYLIGHT
BEGIN:STANDARD
TZOFFSETFROM:+0200
TZOFFSETTO:+0100
TZNAME:CET
DTSTART:20271031T010000
END:STANDARD
END:VTIMEZONE
BEGIN:VEVENT
DTSTART;TZID=Europe/Berlin:20260117T170000
DTEND;TZID=Europe/Berlin:20260117T203000
DTSTAMP:20260425T205810
CREATED:20251219T105927Z
LAST-MODIFIED:20251219T110219Z
UID:1602-1768669200-1768681800@ticketbasis.de
SUMMARY:Über die Obrigkeitshörigkeit der Menschen
DESCRIPTION:Vortrag „Über die Obrigkeitshörigkeit der Menschen – Wie sie evolutiv entstanden ist und heute missbraucht wird“\n\n\n\n\n\nInhalt:Unser heutiges Verhalten wird immer noch durch ein Betriebssystem gesteuert\, das lange vor Menschwerdung im Rahmen der Evolution in uns fest verankert ist. Teilweise war und ist es sinnvoll\, in unserer heutigen Gesellschaft kann es jedoch hinderlich sein und für Manipulationen missbraucht werden. Der Vortrag ist eine Reise in unser Innerstes\, eine Anleitung zur Erkenntnis\, warum sich Leute in den vergangenen Jahren\, speziell in den Zeiten von Corona\, verhalten haben wie sie sich verhalten haben. Woher die Konformität\, woher die Aggression gegenüber Andersdenkende?Kurzbiographie Dr. rer\, nat. Jörg Uhlig:Dr. Jörg Uhlig\, 56 Jahre alt\, verheiratet und Vater von 5 Kindern\, studierte an der Universität Regensburg Biologie mit dem Abschluss Diplom-Biologe. 2001 folgte die Promotion im Fachbereich Virologie am Universitätsklinikum Regensburg\, Institut für Mikrobiologie und Hygiene. Seit über 25 Jahren ist er für verschiedene Firmen im Außendienst tätig im Bereich Life Science\, Industrie.Er ist Gastautor beim Bürgerrechtsblog !1bis19!. Politisch aktiv ist er bei der WerteUnion\, sowohl im Verein als auch in der Partei. Als überzeugter Spaziergänger ist er auch Kämpfer für Grund- und Bürgerrechte.
URL:https://ticketbasis.de/event/ueber-die-obrigkeitshoerigkeit-der-menschen/
CATEGORIES:Vortrag
ATTACH;FMTTYPE=image/jpeg:https://ticketbasis.de/wp-content/uploads/2025/12/IMG-20251213-WA0005-21923af46afed1b41f4ad09a02a37eec.jpg
END:VEVENT
BEGIN:VEVENT
DTSTART;TZID=Europe/Berlin:20260117T183000
DTEND;TZID=Europe/Berlin:20260117T213000
DTSTAMP:20260425T205810
CREATED:20251224T102752Z
LAST-MODIFIED:20251224T103339Z
UID:1622-1768674600-1768685400@ticketbasis.de
SUMMARY:Windows oder Linux? Google oder Lineage?
DESCRIPTION:Von Windows auf Linux umsteigen\n\n\n\nWindows sammelt immer mehr Daten\, wird mit jeder Version ressourcenhungriger und zwingt Nutzer in ein geschlossenes System. Linux bietet eine Alternative: Mehr Datenschutz\, bessere Performance – auch auf älterer Hardware – und volle Kontrolle über das eigene System. In meinem Vortrag zeige ich Ihnen\, warum sich der Umstieg lohnt und wie Sie ihn Schritt für Schritt erfolgreich meistern. \n\n\n\nWarum von GoogleOS zu LineageOS wechseln\n\n\n\nGoogle sammelt auf Android-Smartphones permanent Nutzerdaten und schränkt die Kontrolle über das eigene Gerät ein. LineageOS bietet eine Google-freie Alternative\, die mehr Datenschutz\, bessere Performance und längere Geräteunterstützung ermöglicht. In meinem Vortrag erfahren Sie\, warum sich der Wechsel lohnt und wie Sie Ihr Smartphone unabhängig von Google nutzen können.
URL:https://ticketbasis.de/event/windows-oder-linux-google-oder-lineage/
CATEGORIES:Themenabend
ATTACH;FMTTYPE=image/jpeg:https://ticketbasis.de/wp-content/uploads/2025/12/Googlefreie-Handys-a547b1737637104bc331310f0d8bc043.jpg
END:VEVENT
BEGIN:VEVENT
DTSTART;TZID=Europe/Berlin:20260118T183000
DTEND;TZID=Europe/Berlin:20260118T213000
DTSTAMP:20260425T205810
CREATED:20251224T104921Z
LAST-MODIFIED:20260115T204610Z
UID:1628-1768761000-1768771800@ticketbasis.de
SUMMARY:Krisenvorsorge! Aber Sinnvoll…
DESCRIPTION:Inzwischen ist so ziemlich jede Form der Krise denkbar. Vom Krieg über Blackout bis hin zu Naturkatastrophen… Doch was wenn es wirklich so weit wäre? Bist du gut vorbereitet um einige Tage oder gar Wochen ohne fremde Hilfe klar zu kommen?Wie Ihr euch Sinnvoll vorbereitet für jede Art von Krise soll euch hier veranschaulicht werden!Praktische Tipps zur Vorratshaltung\, Wärmeerzeugung und Notfall-Strom Versorgung…Denn Krisenvorsorge geht weit über einfache Vorräte hinaus.
URL:https://ticketbasis.de/event/krisenvorsorge-aber-sinnvoll/
CATEGORIES:Vortrag
ATTACH;FMTTYPE=image/jpeg:https://ticketbasis.de/wp-content/uploads/2025/12/Krisenvorsorge-ed55f23739fa76e55c819a244aa5f00c.jpg
END:VEVENT
BEGIN:VEVENT
DTSTART;TZID=Europe/Berlin:20260131T130000
DTEND;TZID=Europe/Berlin:20260131T190000
DTSTAMP:20260425T205810
CREATED:20260112T064841Z
LAST-MODIFIED:20260112T064954Z
UID:1663-1769864400-1769886000@ticketbasis.de
SUMMARY:Neujahrsempfang des SV Köln
DESCRIPTION:Der Vorstand des SV Köln lädt ein – zum aktiven Arbeitstreffen inkl. Neujahrsempfang. \n\n\n\nWir treffen uns mal wieder bei unserer lieben Birgit (Adresse gibt es nach Anmeldung) und wollen wieder eine angenehme Mischung aus Arbeitstreffen und gemütlichem Beisammensein gestalten. \n\n\n\nWie die letzten Male auch\, wird der Vorstand für Getränke sorgen. Und jeder Teilnehmer darf gern etwas für unser gemeinsames Buffet beisteuern\, damit wir auch kulinarisch gut versorgt sein werden. \n\n\n\n\n\n\n\n\n\n\n\nAußerdem werden wir die bei unserer letzten Mitgliederversammlung / Weihnachtsfeier gesammelten Themen vorbereiten\, sodass sie in Kleingruppen aktiv ausgearbeitet werden können. Jeder darf sich einbringen\, so wie er mag – Mitglieder und Nicht-Mitglieder gleichermaßen. Wir freuen uns über jeden\, der sich engagieren und einbringen möchte. \n\n\n\nWir freuen uns auf einen angenehmen Nachmittag mit euch! \n\n\n\nFür Fragen etc. stehen wir euch unter koeln@diebasis.nrw im Vorfeld gerne zur Verfügung. \n\n\n\nHerzliche Grüße und bis bald \n\n\n\neuer VorstanddieBasis SV Köln
URL:https://ticketbasis.de/event/neujahrsempfang-des-sv-koeln/
CATEGORIES:Vernetzungstreffen
ATTACH;FMTTYPE=image/png:https://ticketbasis.de/wp-content/uploads/2026/01/ChatGPT-Image-12.-Jan.-2026-07_34_07.png
END:VEVENT
END:VCALENDAR