BEGIN:VCALENDAR
VERSION:2.0
PRODID:-//ticketbasis.de - ECPv6.15.20//NONSGML v1.0//EN
CALSCALE:GREGORIAN
METHOD:PUBLISH
X-ORIGINAL-URL:https://ticketbasis.de
X-WR-CALDESC:Veranstaltungen für ticketbasis.de
REFRESH-INTERVAL;VALUE=DURATION:PT1H
X-Robots-Tag:noindex
X-PUBLISHED-TTL:PT1H
BEGIN:VTIMEZONE
TZID:Europe/Berlin
BEGIN:DAYLIGHT
TZOFFSETFROM:+0100
TZOFFSETTO:+0200
TZNAME:CEST
DTSTART:20250330T010000
END:DAYLIGHT
BEGIN:STANDARD
TZOFFSETFROM:+0200
TZOFFSETTO:+0100
TZNAME:CET
DTSTART:20251026T010000
END:STANDARD
BEGIN:DAYLIGHT
TZOFFSETFROM:+0100
TZOFFSETTO:+0200
TZNAME:CEST
DTSTART:20260329T010000
END:DAYLIGHT
BEGIN:STANDARD
TZOFFSETFROM:+0200
TZOFFSETTO:+0100
TZNAME:CET
DTSTART:20261025T010000
END:STANDARD
BEGIN:DAYLIGHT
TZOFFSETFROM:+0100
TZOFFSETTO:+0200
TZNAME:CEST
DTSTART:20270328T010000
END:DAYLIGHT
BEGIN:STANDARD
TZOFFSETFROM:+0200
TZOFFSETTO:+0100
TZNAME:CET
DTSTART:20271031T010000
END:STANDARD
END:VTIMEZONE
BEGIN:VEVENT
DTSTART;TZID=Europe/Berlin:20260314T170000
DTEND;TZID=Europe/Berlin:20260314T200000
DTSTAMP:20260425T173242
CREATED:20260119T070056Z
LAST-MODIFIED:20260119T070927Z
UID:1847-1773507600-1773518400@ticketbasis.de
SUMMARY:Das Ende des Westens und die Chance für einen neuen Humanismus
DESCRIPTION:Der europäische Kontinent befindet sich in einer tiefen politischen und geistigen Lähmung. Unfähig\, die eigene politische\, geostrategische und geoökonomische Situation zu begreifen\, wird immer häufiger und immer ungezügelter eine selbstzerstörerische Politik betrieben. Wie ist es dazu gekommen? Um den Ausweg aus dieser schwierigen Lage zu finden\, ist es wichtig\, das eigene Gewordensein zu verstehen. Einen Versuch dazu hat der Vortragende Hauke Ritz in seinen beiden jüngsten Büchern „Vom Niedergang des Westens zur Neuerfindung Europas“ sowie „Warum der Weltfrieden von Deutschland abhängt“ unternommen. Dabei rückt für ihn die kulturelle Dimension des Kalten Krieges\, dessen langfristige Folgen und damit auch die Geschichte der transatlantischen Beziehungen ins Zentrum. Ohne eine Emanzipation Europas von den USA wird die gegenwärtige Krise nicht überwunden lassen. Obwohl eine Wiederbelebung und erneute Aneignung der europäischen Kulturmerkmale heute fast unmöglich erscheint\, wird die Möglichkeit in seinem Vortrag doch greifbar. Es ist paradoxerweise die Tiefe der Verstrickung\, die ein Umdenken unumgänglich macht. \n\n\n\n\n\n\n\n\n\n\n\nBiographie – Dr. Hauke Ritz \n\n\n\nHauke Ritz studierte an der FU und HU Berlin. Seine Doktorarbeit im Fach Philosophie beschäftigt sich mit der philosophischen Deutung der Neuzeit und wurde bereits in mehreren Auflagen veröffentlicht. Nach seiner Dissertation wendete er sich verstärkt Fragen der Außenpolitik und Friedensforschung zu. Dabei stand für ihn der Ost-West-Konflikt im Mittelpunkt\, dessen Fortbestehen er als Fehlentwicklung einstufte und seit 2008 im Zuge verschiedener Publikationen und seit 2014 durch regelmäßige Reisen nach Russland und China erforscht. Seit 2014 nimmt er zudem regelmäßig an akademischen Konferenzen in Russland im Bereich der Außenpolitik\, Friedensforschung und Philosophie teil. Hauke Ritz hat an der Universität Gießen\, der MSU und RGGU in Moskau\, der Staatlichen Universität St. Petersburg\, Belgoroder Universität für Zusammenarbeit\, Wirtschaft und Recht sowie weiteren russischen Universitäten unterrichtet und ist zudem als Verleger tätig. 2022 veröffentlichte er zusammen mit Prof. Ulrike Guérot das Buch „Endspiel Europa“\, das ein Bestseller in Deutschland wurde und eine kontroverse Diskussion über das pro und contra der deutschen Unterstützung der Ukraine auslöste. Derzeit leitet er zusammen mit Prof. Ulrike Guérot das European Democracy Lab e.V.\, das Konzepte für ein postatlantisches und souveränes Europa entwickelt. Im Herbst 2024 ist sein neues Buch „Vom Niedergang des Westens zur Neuerfindung Europas“ erschienen. Am 19. Mai erscheint sein neues Buch „Warum der Weltfrieden von Deutschland abhängt“.
URL:https://ticketbasis.de/event/das-ende-des-westens-und-die-chance-fuer-einen-neuen-humanismus/
CATEGORIES:Vortrag
ATTACH;FMTTYPE=image/jpeg:https://ticketbasis.de/wp-content/uploads/2026/01/IMG-20260105-WA0003-6166fbe78f63f9f5928ab63835cc7234.jpg
END:VEVENT
BEGIN:VEVENT
DTSTART;TZID=Europe/Berlin:20260328T190000
DTEND;TZID=Europe/Berlin:20260328T213000
DTSTAMP:20260425T173242
CREATED:20260305T175243Z
LAST-MODIFIED:20260318T084213Z
UID:1998-1774724400-1774733400@ticketbasis.de
SUMMARY:Buchvorstellung begleitet von Klaviermusik
DESCRIPTION:Autorenlesung: „Juristisch ein Skandal“ – Der Fall Dr. Reiner Füllmich \n\n\n\n\n\nViele kennen den Fall Dr. Reiner Füllmich.Viele haben den Prozess verfolgt.Einige haben das Urteil gelesen. \n\n\n\nDoch was steht nicht in den Protokollen? \n\n\n\n\n\nVeranstaltung am 28.03.2026\n\n\n\n\n\nIn dieser besonderen Autorenlesung wirft die Prozessbeobachterin Andrea Henning einen Blick auf die Fußnoten eines außergewöhnlichen Verfahrens – auf Hintergründe\, Beobachtungen und Begleitumstände\, die in offiziellen Dokumenten keinen Platz finden. \n\n\n\nDabei geht es nicht um Schuld oder Unschuld\, sondern um Fragen\, Eindrücke und Perspektiven rund um einen Prozess\, der viele Menschen bewegt hat. \n\n\n\nMusikalisch begleitet wird die Lesung vom Friedenspianisten Arne Schmitt\, der den Abend am Klavier mit einfühlsamen Klängen untermalt. \n\n\n\nDiese Lesung kann Nebenwirkungen enthalten:Stirnrunzeln\, Perspektivwechsel\, Kopfschütteln\, Schmunzeln – und möglicherweise Gesprächsbedarf. \n\n\n\nIm Anschluss an die Lesung nehmen sich die Beteiligten gerne Zeit für Austausch und Gespräche. \n\n\n\n\n\n\n\nEintritt: freiEinlass: ab 18 UhrSpenden: willkommen \n\n\n\nVor Ort können außerdem erworben werden: \n\n\n\n\ndas Buch „Juristisch ein Skandal – Der Fall Dr. Reiner Füllmich“ von Andrea Henning\n\n\n\nCDs des Friedenspianisten Arne Schmitt\n\n\n\n\nGetränke und kleine Snacks werden gegen Spende angeboten. \n\n\n\n\n\n\n\n\n\n\n\n\n\n\n\n\n\n\n\n\n\n\n\n\n\nVeranstalter: dieBasis Bezriksverband Köln\n\n\n\n\n\nVeranstaltungsort:Begegnungsstätte „Körper & Geist Werkstatt“ \n\n\n\nAm Schildgen 6 50354 Hürth-Fischenich
URL:https://ticketbasis.de/event/280326-buchvorstellung-begleitet-von-klaviermusik/
CATEGORIES:Buchvorstellung,Themenabend
ATTACH;FMTTYPE=image/png:https://ticketbasis.de/wp-content/uploads/2026/03/208466a7-bd26-484d-b2e1-b45eb8468c19.png
END:VEVENT
BEGIN:VEVENT
DTSTART;TZID=Europe/Berlin:20260329T150000
DTEND;TZID=Europe/Berlin:20260329T173000
DTSTAMP:20260425T173242
CREATED:20260305T174422Z
LAST-MODIFIED:20260305T205341Z
UID:1996-1774796400-1774805400@ticketbasis.de
SUMMARY:Buchvorstellung begleitet von Klaviermusik
DESCRIPTION:Autorenlesung: „Juristisch ein Skandal“ – Der Fall Dr. Reiner Füllmich \n\n\n\n\n\nViele kennen den Fall Dr. Reiner Füllmich.Viele haben den Prozess verfolgt.Einige haben das Urteil gelesen. \n\n\n\nDoch was steht nicht in den Protokollen? \n\n\n\n\n\nVeranstaltung am 29.03.2026\n\n\n\n\n\nIn dieser besonderen Autorenlesung wirft die Prozessbeobachterin Andrea Henning einen Blick auf die Fußnoten eines außergewöhnlichen Verfahrens – auf Hintergründe\, Beobachtungen und Begleitumstände\, die in offiziellen Dokumenten keinen Platz finden. \n\n\n\nDabei geht es nicht um Schuld oder Unschuld\, sondern um Fragen\, Eindrücke und Perspektiven rund um einen Prozess\, der viele Menschen bewegt hat. \n\n\n\nMusikalisch begleitet wird die Lesung vom Friedenspianisten Arne Schmitt\, der den Abend am Klavier mit einfühlsamen Klängen untermalt. \n\n\n\nDiese Lesung kann Nebenwirkungen enthalten:Stirnrunzeln\, Perspektivwechsel\, Kopfschütteln\, Schmunzeln – und möglicherweise Gesprächsbedarf. \n\n\n\nIm Anschluss an die Lesung nehmen sich die Beteiligten gerne Zeit für Austausch und Gespräche. \n\n\n\n\n\n\n\nEintritt: freiEinlass: ab 14 UhrSpenden: willkommen \n\n\n\nVor Ort können außerdem erworben werden: \n\n\n\n\ndas Buch „Juristisch ein Skandal – Der Fall Dr. Reiner Füllmich“ von Andrea Henning\n\n\n\nCDs des Friedenspianisten Arne Schmitt\n\n\n\n\nGetränke und kleine Snacks werden gegen Spende angeboten.
URL:https://ticketbasis.de/event/290326-buchvorstellung-begleitet-von-klaviermusik/
LOCATION:Gasthaus „Zur Post beim Tony“\, Provinzialr. 23\, Niederkassel\, 53859\, Germany
CATEGORIES:Buchvorstellung,Themenabend
ATTACH;FMTTYPE=image/png:https://ticketbasis.de/wp-content/uploads/2026/03/208466a7-bd26-484d-b2e1-b45eb8468c19.png
END:VEVENT
END:VCALENDAR