BEGIN:VCALENDAR
VERSION:2.0
PRODID:-//ticketbasis.de - ECPv6.15.20//NONSGML v1.0//EN
CALSCALE:GREGORIAN
METHOD:PUBLISH
X-ORIGINAL-URL:https://ticketbasis.de
X-WR-CALDESC:Veranstaltungen für ticketbasis.de
REFRESH-INTERVAL;VALUE=DURATION:PT1H
X-Robots-Tag:noindex
X-PUBLISHED-TTL:PT1H
BEGIN:VTIMEZONE
TZID:Europe/Berlin
BEGIN:DAYLIGHT
TZOFFSETFROM:+0100
TZOFFSETTO:+0200
TZNAME:CEST
DTSTART:20250330T010000
END:DAYLIGHT
BEGIN:STANDARD
TZOFFSETFROM:+0200
TZOFFSETTO:+0100
TZNAME:CET
DTSTART:20251026T010000
END:STANDARD
BEGIN:DAYLIGHT
TZOFFSETFROM:+0100
TZOFFSETTO:+0200
TZNAME:CEST
DTSTART:20260329T010000
END:DAYLIGHT
BEGIN:STANDARD
TZOFFSETFROM:+0200
TZOFFSETTO:+0100
TZNAME:CET
DTSTART:20261025T010000
END:STANDARD
BEGIN:DAYLIGHT
TZOFFSETFROM:+0100
TZOFFSETTO:+0200
TZNAME:CEST
DTSTART:20270328T010000
END:DAYLIGHT
BEGIN:STANDARD
TZOFFSETFROM:+0200
TZOFFSETTO:+0100
TZNAME:CET
DTSTART:20271031T010000
END:STANDARD
END:VTIMEZONE
BEGIN:VEVENT
DTSTART;TZID=Europe/Berlin:20260502T190000
DTEND;TZID=Europe/Berlin:20260502T220000
DTSTAMP:20260425T173140
CREATED:20260112T072116Z
LAST-MODIFIED:20260128T130107Z
UID:1673-1777748400-1777759200@ticketbasis.de
SUMMARY:Live Konzert - Goethe & Lapaz
DESCRIPTION:Ihre Stimmen waren unbequem\, ihre Texte kritisch\, ihre Haltung klar.  \n\n\n\nDie Löwen brüllen wieder! \n\n\n\nAm 02.05.2026 kehren Goethe & Lapaz zurück auf die Bühne der LEMON LOUNGE – laut\, ehrlich und unüberhörbar. Freu dich auf einen Abend voller Energie\, Tiefgang und Musik\, die nicht nur unterhält\, sondern bewegt. Auf Songs\, die unter die Haut gehen\, und auf Momente\, die bleiben. Wenn Goethe & Lapaz die Bühne betreten\, erzählen ihre Songs von Schuld\, Verantwortung und Spuren\, die man nicht einfach abwaschen kann. Hände Voll Blut eben…  \n\n\n\nEinlass ab 19 Uhr – Im Ticketpreis ist ein Freigetränk enthalten. \n\n\n\nErlebe zwei Musiker\, die etwas zu sagen haben – und es jetzt endlich wieder sagen.Sei dabei\, wenn die Löwen wieder brüllen. 🎶🔥
URL:https://ticketbasis.de/event/live-konzert-goethe-lapaz/
CATEGORIES:Konzert
ATTACH;FMTTYPE=image/jpeg:https://ticketbasis.de/wp-content/uploads/2026/01/Konzert-Goethe_Lapaz-bc2c40f8c548df918ff4c08db1e60b18.jpg
END:VEVENT
BEGIN:VEVENT
DTSTART;TZID=Europe/Berlin:20260509T180000
DTEND;TZID=Europe/Berlin:20260509T213000
DTSTAMP:20260425T173140
CREATED:20260320T131621Z
LAST-MODIFIED:20260322T195825Z
UID:2165-1778349600-1778362200@ticketbasis.de
SUMMARY:Manipulation und Propaganda im 21. Jahrhundert
DESCRIPTION:Teaser Vortrag „Manipulation und Propaganda“ im 21. Jahrhundert: Seit mehr als 100 Jahren wird das Wissen und Können im Bereich der Massenmanipulation immer weiter verfeinert\, sodass wir im 21. Jahrhundert vor einer gigantischen\, globalen Herausforderung stehen: Modernste Manipulationsmöglichkeiten\, sogenannte Soft-Power-Techniken\, dringen in immer mehr Bereiche unserer Gesellschaft vor und das Gehirn der Menschen ist zum erklärten Schlachtfeld der Kriegsführung geworden.Der Propagandaforscher und Bestsellerautor Dr. Jonas Tögel gibt einen konkreten Einblick in die Vielfalt dieser Manipulationswaffen und zeigt dabei konkrete Wege auf\, wie jeder einzelne Manipulation erkennen und neutralisieren kann\, damit wir gemeinsam das zurückholen\, was am wichtigsten ist: echte Demokratie auf Augenhöhe und ein friedliches Miteinander ohne Kriege und Gewalt. \n\n\n\nKurzvorstellung Referent:Dr. Jonas Tögel ist Amerikanist\, Propagandaforscher und Bestsellerautor. Er hat zum Thema Soft Power und Motivation promoviert und arbeitet als wissenschaftlicher Mitarbeiter am Institut für Psychologie der Universität Regensburg. Seine Forschungsschwerpunkte sind unter anderem Propaganda\, der Einsatz von Soft-Power-Techniken\, Nudging\, Motivation sowie Geostrategie. Als Wissenschaftler publiziert er in internationalen Fachzeitschriften\, als gefragter Redner hält er zahlreiche Vorträge in Deutschland\, Österreich und der Schweiz.Zuletzt erschien sein Buch „Kriegsspiele“ im Westend-Verlag. \n\n\n\n\n\n\n\n\n\n\n\n\n\n\n\n\n\nEintritt: FREIEinlass: ab 18 UhrBeginn: 19 Uhr \n\n\n\n\n\nVeranstalter:\n\n\n\ndieBasis Kreisverband Heinsbergkreis-heinsberg@diebasis.nrw \n\n\n\n\n\nVeranstaltungsort:Quellenhof\n\n\n\nRebhuhnweg 3341844 Wegberg
URL:https://ticketbasis.de/event/manipulation-und-propaganda-im-21-jahrhundert/
CATEGORIES:Vortrag
ATTACH;FMTTYPE=image/jpeg:https://ticketbasis.de/wp-content/uploads/2026/03/5323773879824094342.jpg
END:VEVENT
BEGIN:VEVENT
DTSTART;TZID=Europe/Berlin:20260516T183000
DTEND;TZID=Europe/Berlin:20260516T213000
DTSTAMP:20260425T173140
CREATED:20260331T083514Z
LAST-MODIFIED:20260331T084910Z
UID:2417-1778956200-1778967000@ticketbasis.de
SUMMARY:Inside Bundestag
DESCRIPTION:Was passiert hinter den Kulissen des Bundestages?\n\n\n\nWas passiert wirklich hinter den Türen des Deutschen Bundestages\, wenn die Kameras abgeschaltet sind? Welche Abläufe\, Entscheidungen und Dynamiken bleiben der Öffentlichkeit verborgen? \n\n\n\nBei diesem Themenabend bekommst du die seltene Gelegenheit\, einen ehrlichen und ungeschönten Einblick in den parlamentarischen Alltag zu erhalten. Erfahre aus erster Hand\, wie Politik tatsächlich funktioniert – jenseits von Pressekonferenzen und offiziellen Statements. \n\n\n\nJoana Cotar war von 2017 bis 2025 Mitglied des Deutschen Bundestages – zunächst für die AfD-Fraktion und nach ihrem Parteiaustritt als fraktionslose Abgeordnete. In ihrem Vortrag und ihrer Buchvorstellung berichtet sie offen über ihre persönlichen Erfahrungen\, überraschende Einblicke und auch über die oft absurden Seiten des politischen Betriebs. \n\n\n\nIhre Schilderungen sind teils erschütternd\, teils erstaunlich – und regen zum Nachdenken an. Gleichzeitig zeigen sie auf\, warum Veränderungen notwendig sind und wo Chancen für eine politische Erneuerung liegen. \n\n\n\nFreu dich auf einen spannenden Abend mit Vortrag\, Buchvorstellung und anschließender Diskussion\, bei der auch deine Fragen und Gedanken Platz finden! \n\n\n\n\n\n\n\n\n\n\n\n\n\n\n\n\n\nInfos\n\n\n\nEintritt: 10 € – Bezahlung nur in BAR und vor ORT!Einlass: ab 17 UhrBeginn: 18:30 Uhr \n\n\n\n\n\nVeranstalter\n\n\n\nSven Kerzel dieBasis Kreisverband Heilbronn-Ludwigsburgsven.kerzel@diebasis-hn.de \n\n\n\n\n\nVeranstaltungsort\n\n\n\nKlosterburgstuben BönnigheimBachstraße 3574357 Bönnigheim
URL:https://ticketbasis.de/event/inside-bundestag/
ATTACH;FMTTYPE=image/jpeg:https://ticketbasis.de/wp-content/uploads/2026/03/5357161229006345591.jpg
END:VEVENT
END:VCALENDAR